BEGIN:VCALENDAR
VERSION:2.0
PRODID:-//Drupal iCal API//EN
X-WR-CALNAME:Calendar of Events
X-WR-TIMEZONE:America/Chicago
BEGIN:VTIMEZONE
TZID:America/Chicago
X-LIC-LOCATION:America/Chicago
BEGIN:DAYLIGHT
TZNAME:CDT
TZOFFSETFROM:-0600
TZOFFSETTO:-0500
DTSTART:20260308T080000
END:DAYLIGHT
BEGIN:STANDARD
TZNAME:CST
TZOFFSETFROM:-0500
TZOFFSETTO:-0600
DTSTART:20251102T070000
END:STANDARD
END:VTIMEZONE
BEGIN:VEVENT
UID:d7c63572-2aae-4672-8f53-9bd8f8bfe980
DTSTART;TZID=America/Chicago:20260502T090000
SEQUENCE:0
TRANSP:TRANSPARENT
DTEND;TZID=America/Chicago:20260502T130000
SUMMARY:Pre-K Enrollment & Eligibility Fair
CLASS:PUBLIC
DESCRIPTION:Body \n\nWE’RE HERE TO HELP YOU ENROLL YOUR CHILD IN PRE-K!\n
 \nAustin ISD will host two districtwide PRE-K ENROLLMENT & ELIGIBILITY\nF
 AIRS to support families with the application process and\neligibility re
 view.\n\nEVENT DATES & LOCATIONS\n\n* PRE-K ENROLLMENT & ELIGIBILITY FAIR 
 – NORTH \n\n* T.A. Brown Elementary\n * APRIL 11\, 2026 | 9:00 AM – 1
 :00 PM\n\n* PRE-K ENROLLMENT & ELIGIBILITY FAIR – SOUTH \n\n* St. Elmo E
 lementary\n * MAY 2\, 2026 | 9:00 AM – 1:00 PM\n\nWHAT YOU CAN DO AT THE
  FAIR\n\n* Submit your Pre-K application\n * Upload and review required do
 cuments\n * Receive eligibility support and determination (with complete\n
 documentation)\n * Provide language testing (if applicable for Emergent Bi
 lingual\nstudents)\n * Ask questions about programs and next steps\n * Get
  one-on-one assistance from Enrollment staff\n\nNO APPOINTMENT NEEDED. FAM
 ILIES MAY COME ANYTIME DURING EVENT HOURS.\n\nWHAT TO BRING WITH YOU\n\nTo
  complete your Pre-K application and process eligibility\, please\nbring t
 he following physical documents or legible copies:\n\nDOCUMENTS REQUIRED
  FOR REGISTRATION:\n\n✔ Child’s Birth Certificate\n✔ Child’s Immu
 nization Record\n✔ Child’s Social Security (optional)\n✔ Parent/Guar
 dian Photo ID\n✔ Proof of Address (dated within 45 days)\n\n* Electric/G
 as bill\n * Water bill\n * Lease/Mortgage/Deed agreement\n\nDOCUMENTS NEED
 ED TO DETERMINE PRE-K ELIGIBILITY—READ CAREFULLY\n\n(Bring documents tha
 t apply to your family situation)\n\nINCOME-BASED ELIGIBILITY (REQUIRED FO
 R ALL PRE-K\nSTUDENTS). Provide ONE of the following:\n\n* SNAP or TANF
  Benefits Letter (current)\nOR\n\n* Pay Stubs (within the last 30 days): \
 n\n* Paid weekly → 4 consecutive pay stubs\n * Paid bi-weekly → 3 cons
 ecutive pay stubs\n * Paid twice monthly → 2 consecutive pay stubs\n * P
 aid monthly → 1 pay stub\nOR\n\n * Most recent Tax Return (only if self-
 employed)\n\nOTHER DOCUMENTATION NEEDED (IF APPLICABLE): \n\n* MILITARY 
 → DoD ID or Active Duty Military Orders or\nService-Connected Disability
  Letter (if applicable)\n * FOSTER CARE → Pre-K Eligibility Letter OR C
 PS documentation\n(2085 form or official letter)\n * STAR OF TEXAS AWARD 
 → Official Award Letter\n * AISD CLASSROOM TEACHER ELIGIBILITY → AISD
  Badge\, Employee ID\,\nor District Email Verification\n\nIMPORTANT REMIND
 ER\n\nFamilies must submit all required documents (upload or provide to th
 e\ncampus) for eligibility review.\n\nEligibility may be determined on sit
 e if documents are provided at the\nevent. On-site offers are only for EL
 IGIBLE Pre-K4 students applying\nto their Home School.\n\nIncomplete docu
 ments may delay eligibility.\n\nENROLL ONLINE\n\nFamilies may begin Pre-K 
 applications on April 1st at\naustinisd.org/enroll\n[/We’reheretohelpyou
 enrollyourchildinPre-K!AustinISDwillhosttwodistrictwidePre-KEnrollment&Eli
 gibilityFairstosupportfamilieswiththeapplicationprocessandeligibilityrevie
 w.📍EventDates&LocationsPre-KEnrollment&EligibilityFair–NorthT.A.Brown
 ElementaryApril11\,20269:00AM–1:00PMPre-KEnrollment&EligibilityFair–So
 uthSt.ElmoElementaryMay2\,20269:00AM–1:00PMWhatYouCanDoattheFairSubmityo
 urPre-KapplicationUploadandreviewrequireddocumentsReceiveeligibilitysuppor
 tanddetermination(withcompletedocumentation)Providelanguagetesting(ifappli
 cableforEmergentBilingualstudents)AskquestionsaboutprogramsandnextstepsGet
 one-on-oneassistancefromEnrollmentstaffNoappointmentneeded.Familiesmaycome
 anytimeduringeventhours.WhattoBringWithYouTocompleteyourPre-Kapplicationan
 dprocesseligibility\,pleasebringthefollowingphysicaldocumentsorlegiblecopi
 es:DocumentsRequiredforRegistration:✔Child’sBirthCertificate✔Child
 ’sImmunizationRecord✔Child’sSocialSecurity(optional)✔Parent/Guardi
 anPhotoID✔ProofofAddress(datedwithin45days)Electric/GasbillWaterbillLeas
 e/Mortgage/DeedagreementDocumentsNeededtoDeterminePre-KEligibility-Readcar
 efully(Bringdocumentsthatapplytoyourfamilysituation)Income-BasedEligibilit
 y(REQUIREDFORALLPre-Kstudents):Provideoneofthefollowing:SNAPorTANFBenefits
 Letter(current)ORPayStubs(withinthelast30days):Paidweekly→4consecutivepa
 ystubsPaidbi-weekly→3consecutivepaystubsPaidtwicemonthly→2consecutivep
 aystubsPaidmonthly→1paystubORMostrecentTaxReturn(onlyifself-employed)Oth
 erdocumentationneeded(ifapplicable):Military→DoDIDorActiveDutyMilitaryOr
 dersorService-ConnectedDisabilityLetter(ifapplicable)FosterCare→Pre-KEli
 gibilityLetterORCPSdocumentation(2085formorofficialletter)StarofTexasAward
 →OfficialAwardLetterAISDClassroomTeacherEligibility→]\n\nQUESTIONS? CO
 NTACT YOUR APPLYING CAMPUS FOR SUPPORT.\n\n> Visit our Pre-K page [ht
 tps://www.austinisd.org/prek] to explore\n> our early learning progr
 ams.
DTSTAMP:20260417T224707Z
END:VEVENT
END:VCALENDAR